BEGIN:VCALENDAR
VERSION:2.0
PRODID:-//Twin Lakes Golf Club - ECPv6.11.2//NONSGML v1.0//EN
CALSCALE:GREGORIAN
METHOD:PUBLISH
X-WR-CALNAME:Twin Lakes Golf Club
X-ORIGINAL-URL:http://twin-lakes-golf.com
X-WR-CALDESC:Events for Twin Lakes Golf Club
REFRESH-INTERVAL;VALUE=DURATION:PT1H
X-Robots-Tag:noindex
X-PUBLISHED-TTL:PT1H
BEGIN:VTIMEZONE
TZID:America/New_York
BEGIN:DAYLIGHT
TZOFFSETFROM:-0500
TZOFFSETTO:-0400
TZNAME:EDT
DTSTART:20160313T070000
END:DAYLIGHT
BEGIN:STANDARD
TZOFFSETFROM:-0400
TZOFFSETTO:-0500
TZNAME:EST
DTSTART:20161106T060000
END:STANDARD
BEGIN:DAYLIGHT
TZOFFSETFROM:-0500
TZOFFSETTO:-0400
TZNAME:EDT
DTSTART:20170312T070000
END:DAYLIGHT
BEGIN:STANDARD
TZOFFSETFROM:-0400
TZOFFSETTO:-0500
TZNAME:EST
DTSTART:20171105T060000
END:STANDARD
END:VTIMEZONE
BEGIN:VEVENT
DTSTART;TZID=America/New_York:20170520T140000
DTEND;TZID=America/New_York:20170520T180000
DTSTAMP:20260423T080354
CREATED:20170515T133936Z
LAST-MODIFIED:20170515T133936Z
UID:205-1495288800-1495303200@twin-lakes-golf.com
SUMMARY:VFW OUTING
DESCRIPTION:SHOTGUN START
URL:http://twin-lakes-golf.com/events/vfw-outing/
LOCATION:OH
END:VEVENT
BEGIN:VEVENT
DTSTART;TZID=America/New_York:20170218T080000
DTEND;TZID=America/New_York:20170221T170000
DTSTAMP:20260423T080354
CREATED:20170217T203739Z
LAST-MODIFIED:20170217T203739Z
UID:202-1487404800-1487696400@twin-lakes-golf.com
SUMMARY:OPEN 2/18\, 2/19\, 2/20 8:00 AM
DESCRIPTION:
URL:http://twin-lakes-golf.com/events/open-218-219-220-800-am/
LOCATION:OH
END:VEVENT
BEGIN:VEVENT
DTSTART;TZID=America/New_York:20161015T090000
DTEND;TZID=America/New_York:20161015T233000
DTSTAMP:20260423T080354
CREATED:20160929T162144Z
LAST-MODIFIED:20160929T162144Z
UID:198-1476522000-1476574200@twin-lakes-golf.com
SUMMARY:TASCO
DESCRIPTION:Reverse Gun
URL:http://twin-lakes-golf.com/events/tasco/
LOCATION:OH
END:VEVENT
BEGIN:VEVENT
DTSTART;TZID=America/New_York:20161006T100000
DTEND;TZID=America/New_York:20161006T130000
DTSTAMP:20260423T080354
CREATED:20160929T161935Z
LAST-MODIFIED:20160929T161935Z
UID:197-1475748000-1475758800@twin-lakes-golf.com
SUMMARY:Doughboys
DESCRIPTION:Shotgun Start
URL:http://twin-lakes-golf.com/events/doughboys/
LOCATION:OH
END:VEVENT
BEGIN:VEVENT
DTSTART;TZID=America/New_York:20161002T130000
DTEND;TZID=America/New_York:20161002T180000
DTSTAMP:20260423T080354
CREATED:20160929T161630Z
LAST-MODIFIED:20160929T161630Z
UID:196-1475413200-1475431200@twin-lakes-golf.com
SUMMARY:Benefit for Bronson
DESCRIPTION:Shotgun start
URL:http://twin-lakes-golf.com/events/benefit-for-bronson/
LOCATION:OH
END:VEVENT
BEGIN:VEVENT
DTSTART;TZID=America/New_York:20160925T090000
DTEND;TZID=America/New_York:20160925T140000
DTSTAMP:20260423T080354
CREATED:20160902T155614Z
LAST-MODIFIED:20160902T155614Z
UID:187-1474794000-1474812000@twin-lakes-golf.com
SUMMARY:Letter Carriers
DESCRIPTION:
URL:http://twin-lakes-golf.com/events/letter-carriers/
LOCATION:OH
END:VEVENT
BEGIN:VEVENT
DTSTART;TZID=America/New_York:20160924T090000
DTEND;TZID=America/New_York:20160924T150000
DTSTAMP:20260423T080354
CREATED:20160902T160353Z
LAST-MODIFIED:20160902T161721Z
UID:188-1474707600-1474729200@twin-lakes-golf.com
SUMMARY:Lizzards year end outing
DESCRIPTION:
URL:http://twin-lakes-golf.com/events/lizzards-year-end-outing/
LOCATION:OH
END:VEVENT
BEGIN:VEVENT
DTSTART;TZID=America/New_York:20160921T153000
DTEND;TZID=America/New_York:20160921T170000
DTSTAMP:20260423T080354
CREATED:20160902T155246Z
LAST-MODIFIED:20160905T133634Z
UID:183-1474471800-1474477200@twin-lakes-golf.com
SUMMARY:Ontario JV City Tournament
DESCRIPTION:Back Closed
URL:http://twin-lakes-golf.com/events/ontario-jv-city-tournament/
LOCATION:OH
END:VEVENT
BEGIN:VEVENT
DTSTART;TZID=America/New_York:20160919T153000
DTEND;TZID=America/New_York:20160919T173000
DTSTAMP:20260423T080354
CREATED:20160905T133549Z
LAST-MODIFIED:20160905T134051Z
UID:192-1474299000-1474306200@twin-lakes-golf.com
SUMMARY:Ontario City  JV Tournament
DESCRIPTION:Front Closed
URL:http://twin-lakes-golf.com/events/ontario-city-tournament/
LOCATION:OH
END:VEVENT
BEGIN:VEVENT
DTSTART;TZID=America/New_York:20160917T140000
DTEND;TZID=America/New_York:20160917T170000
DTSTAMP:20260423T080354
CREATED:20160902T145707Z
LAST-MODIFIED:20160902T145707Z
UID:177-1474120800-1474131600@twin-lakes-golf.com
SUMMARY:Lex VFW
DESCRIPTION:
URL:http://twin-lakes-golf.com/events/lex-vfw/
LOCATION:OH
END:VEVENT
BEGIN:VEVENT
DTSTART;TZID=America/New_York:20160917T090000
DTEND;TZID=America/New_York:20160917T140000
DTSTAMP:20260423T080354
CREATED:20160902T145004Z
LAST-MODIFIED:20160902T145606Z
UID:173-1474102800-1474120800@twin-lakes-golf.com
SUMMARY:Monday Night League
DESCRIPTION:Monday Night League year end outing
URL:http://twin-lakes-golf.com/events/173/
LOCATION:OH
END:VEVENT
BEGIN:VEVENT
DTSTART;TZID=America/New_York:20160914T160000
DTEND;TZID=America/New_York:20160914T170000
DTSTAMP:20260423T080354
CREATED:20160902T150105Z
LAST-MODIFIED:20160902T150105Z
UID:180-1473868800-1473872400@twin-lakes-golf.com
SUMMARY:Senior High vs West Holmes
DESCRIPTION:
URL:http://twin-lakes-golf.com/events/senior-high-vs-west-holmes/
LOCATION:OH
END:VEVENT
BEGIN:VEVENT
DTSTART;TZID=America/New_York:20160913T041500
DTEND;TZID=America/New_York:20160913T180000
DTSTAMP:20260423T080354
CREATED:20160902T155135Z
LAST-MODIFIED:20160902T155135Z
UID:182-1473740100-1473789600@twin-lakes-golf.com
SUMMARY:Ontario vs Willard
DESCRIPTION:
URL:http://twin-lakes-golf.com/events/ontario-vs-willard/
LOCATION:OH
END:VEVENT
BEGIN:VEVENT
DTSTART;TZID=America/New_York:20160911T200000
DTEND;TZID=America/New_York:20160911T200000
DTSTAMP:20260423T080354
CREATED:20160905T133442Z
LAST-MODIFIED:20160905T133442Z
UID:191-1473624000-1473624000@twin-lakes-golf.com
SUMMARY:Sports World
DESCRIPTION:Shotgun 1:00
URL:http://twin-lakes-golf.com/events/sports-world-2/
LOCATION:OH
END:VEVENT
BEGIN:VEVENT
DTSTART;TZID=America/New_York:20160911T130000
DTEND;TZID=America/New_York:20160911T180000
DTSTAMP:20260423T080354
CREATED:20160911T050053Z
LAST-MODIFIED:20160902T160134Z
UID:185-1473598800-1473616800@twin-lakes-golf.com
SUMMARY:Sports World
DESCRIPTION:
URL:http://twin-lakes-golf.com/events/sports-world/
LOCATION:OH
END:VEVENT
BEGIN:VEVENT
DTSTART;TZID=America/New_York:20160910T090000
DTEND;TZID=America/New_York:20160910T120000
DTSTAMP:20260423T080354
CREATED:20160902T145507Z
LAST-MODIFIED:20160902T145507Z
UID:175-1473498000-1473508800@twin-lakes-golf.com
SUMMARY:Elks
DESCRIPTION:Reverse Gun
URL:http://twin-lakes-golf.com/events/elks/
LOCATION:OH
END:VEVENT
BEGIN:VEVENT
DTSTART;TZID=America/New_York:20160907T160000
DTEND;TZID=America/New_York:20160907T170000
DTSTAMP:20260423T080354
CREATED:20160902T145914Z
LAST-MODIFIED:20160902T145914Z
UID:179-1473264000-1473267600@twin-lakes-golf.com
SUMMARY:Sr. High vs Clearfork
DESCRIPTION:
URL:http://twin-lakes-golf.com/events/sr-high-vs-clearfork/
LOCATION:OH
END:VEVENT
BEGIN:VEVENT
DTSTART;TZID=America/New_York:20160905T090000
DTEND;TZID=America/New_York:20160905T120000
DTSTAMP:20260423T080354
CREATED:20160905T133342Z
LAST-MODIFIED:20160905T133342Z
UID:190-1473066000-1473076800@twin-lakes-golf.com
SUMMARY:Membership Appreciation
DESCRIPTION:
URL:http://twin-lakes-golf.com/events/membership-appreciation/
LOCATION:OH
END:VEVENT
BEGIN:VEVENT
DTSTART;TZID=America/New_York:20160903T090000
DTEND;TZID=America/New_York:20160903T140000
DTSTAMP:20260423T080354
CREATED:20160902T145403Z
LAST-MODIFIED:20160902T145403Z
UID:174-1472893200-1472911200@twin-lakes-golf.com
SUMMARY:Golden Hawk
DESCRIPTION:Shotgun
URL:http://twin-lakes-golf.com/events/golden-hawk/
LOCATION:OH
END:VEVENT
BEGIN:VEVENT
DTSTART;TZID=America/New_York:20160831T161500
DTEND;TZID=America/New_York:20160831T190000
DTSTAMP:20260423T080354
CREATED:20160807T194748Z
LAST-MODIFIED:20160807T194748Z
UID:171-1472660100-1472670000@twin-lakes-golf.com
SUMMARY:Ontario vs Coldmarn
DESCRIPTION:
URL:http://twin-lakes-golf.com/events/ontario-vs-coldmarn/
LOCATION:OH
END:VEVENT
BEGIN:VEVENT
DTSTART;TZID=America/New_York:20160828T090000
DTEND;TZID=America/New_York:20160828T150000
DTSTAMP:20260423T080354
CREATED:20160807T160019Z
LAST-MODIFIED:20160807T160019Z
UID:159-1472374800-1472396400@twin-lakes-golf.com
SUMMARY:Nevaeh
DESCRIPTION:shotgun
URL:http://twin-lakes-golf.com/events/nevaeh-2/
LOCATION:OH
END:VEVENT
BEGIN:VEVENT
DTSTART;TZID=America/New_York:20160827T100000
DTEND;TZID=America/New_York:20160827T150000
DTSTAMP:20260423T080354
CREATED:20160807T164229Z
LAST-MODIFIED:20160807T164538Z
UID:160-1472292000-1472310000@twin-lakes-golf.com
SUMMARY:Sophisticated Dance
DESCRIPTION:Shotgun
URL:http://twin-lakes-golf.com/events/sophisticated-dance-2/
LOCATION:OH
END:VEVENT
BEGIN:VEVENT
DTSTART;TZID=America/New_York:20160822T040000
DTEND;TZID=America/New_York:20160822T190000
DTSTAMP:20260423T080354
CREATED:20160807T192320Z
LAST-MODIFIED:20160807T192320Z
UID:170-1471838400-1471892400@twin-lakes-golf.com
SUMMARY:Ontario vs Shelby
DESCRIPTION:
URL:http://twin-lakes-golf.com/events/ontario-vs-shelby/
LOCATION:OH
END:VEVENT
BEGIN:VEVENT
DTSTART;TZID=America/New_York:20160821T090000
DTEND;TZID=America/New_York:20160821T150000
DTSTAMP:20260423T080354
CREATED:20160807T130822Z
LAST-MODIFIED:20160807T130822Z
UID:147-1471770000-1471791600@twin-lakes-golf.com
SUMMARY:Rising Stars
DESCRIPTION:Shotgun
URL:http://twin-lakes-golf.com/events/rising-stars/
LOCATION:OH
END:VEVENT
BEGIN:VEVENT
DTSTART;TZID=America/New_York:20160820T100000
DTEND;TZID=America/New_York:20160820T150000
DTSTAMP:20260423T080354
CREATED:20160807T124844Z
LAST-MODIFIED:20160807T124844Z
UID:145-1471687200-1471705200@twin-lakes-golf.com
SUMMARY:Mick Karbula
DESCRIPTION:Reverse Gun
URL:http://twin-lakes-golf.com/events/mick-karbula/
LOCATION:OH
END:VEVENT
BEGIN:VEVENT
DTSTART;TZID=America/New_York:20160820T080000
DTEND;TZID=America/New_York:20160820T100000
DTSTAMP:20260423T080354
CREATED:20160807T124606Z
LAST-MODIFIED:20160807T124701Z
UID:144-1471680000-1471687200@twin-lakes-golf.com
SUMMARY:Cook Rd Baptist
DESCRIPTION:Reverse Gun
URL:http://twin-lakes-golf.com/events/cook-rd-baptist/
LOCATION:OH
END:VEVENT
BEGIN:VEVENT
DTSTART;TZID=America/New_York:20160819T080000
DTEND;TZID=America/New_York:20160819T080000
DTSTAMP:20260423T080354
CREATED:20160807T191412Z
LAST-MODIFIED:20160807T191843Z
UID:166-1471593600-1471593600@twin-lakes-golf.com
SUMMARY:Tyger Invitational
DESCRIPTION:
URL:http://twin-lakes-golf.com/events/tyger-invitational/
LOCATION:OH
END:VEVENT
BEGIN:VEVENT
DTSTART;TZID=America/New_York:20160814T100000
DTEND;TZID=America/New_York:20160814T150000
DTSTAMP:20260423T080354
CREATED:20160807T155715Z
LAST-MODIFIED:20160807T155841Z
UID:158-1471168800-1471186800@twin-lakes-golf.com
SUMMARY:Brian D Evans
DESCRIPTION:
URL:http://twin-lakes-golf.com/events/brian-d-evans/
LOCATION:OH
END:VEVENT
BEGIN:VEVENT
DTSTART;TZID=America/New_York:20160813T090000
DTEND;TZID=America/New_York:20160813T150000
DTSTAMP:20260423T080354
CREATED:20160813T130043Z
LAST-MODIFIED:20160807T140305Z
UID:143-1471078800-1471100400@twin-lakes-golf.com
SUMMARY:Red Fox
DESCRIPTION:Shotgun start
URL:http://twin-lakes-golf.com/events/red-fox/
LOCATION:OH
END:VEVENT
BEGIN:VEVENT
DTSTART;TZID=America/New_York:20160813T090000
DTEND;TZID=America/New_York:20160813T150000
DTSTAMP:20260423T080354
CREATED:20160807T152120Z
LAST-MODIFIED:20160807T152120Z
UID:152-1471078800-1471100400@twin-lakes-golf.com
SUMMARY:Red Fox
DESCRIPTION:Shotgun
URL:http://twin-lakes-golf.com/events/red-fox-2/
LOCATION:OH
END:VEVENT
END:VCALENDAR