BEGIN:VCALENDAR
VERSION:2.0
PRODID:-//Twin Lakes Golf Club - ECPv6.11.2//NONSGML v1.0//EN
CALSCALE:GREGORIAN
METHOD:PUBLISH
X-WR-CALNAME:Twin Lakes Golf Club
X-ORIGINAL-URL:http://twin-lakes-golf.com
X-WR-CALDESC:Events for Twin Lakes Golf Club
REFRESH-INTERVAL;VALUE=DURATION:PT1H
X-Robots-Tag:noindex
X-PUBLISHED-TTL:PT1H
BEGIN:VTIMEZONE
TZID:America/New_York
BEGIN:DAYLIGHT
TZOFFSETFROM:-0500
TZOFFSETTO:-0400
TZNAME:EDT
DTSTART:20160313T070000
END:DAYLIGHT
BEGIN:STANDARD
TZOFFSETFROM:-0400
TZOFFSETTO:-0500
TZNAME:EST
DTSTART:20161106T060000
END:STANDARD
END:VTIMEZONE
BEGIN:VEVENT
DTSTART;TZID=America/New_York:20160828T090000
DTEND;TZID=America/New_York:20160828T150000
DTSTAMP:20260423T080054
CREATED:20160807T160019Z
LAST-MODIFIED:20160807T160019Z
UID:159-1472374800-1472396400@twin-lakes-golf.com
SUMMARY:Nevaeh
DESCRIPTION:shotgun
URL:http://twin-lakes-golf.com/events/nevaeh-2/
END:VEVENT
BEGIN:VEVENT
DTSTART;TZID=America/New_York:20160827T100000
DTEND;TZID=America/New_York:20160827T150000
DTSTAMP:20260423T080054
CREATED:20160807T164229Z
LAST-MODIFIED:20160807T164538Z
UID:160-1472292000-1472310000@twin-lakes-golf.com
SUMMARY:Sophisticated Dance
DESCRIPTION:Shotgun
URL:http://twin-lakes-golf.com/events/sophisticated-dance-2/
END:VEVENT
BEGIN:VEVENT
DTSTART;TZID=America/New_York:20160822T040000
DTEND;TZID=America/New_York:20160822T190000
DTSTAMP:20260423T080054
CREATED:20160807T192320Z
LAST-MODIFIED:20160807T192320Z
UID:170-1471838400-1471892400@twin-lakes-golf.com
SUMMARY:Ontario vs Shelby
DESCRIPTION:
URL:http://twin-lakes-golf.com/events/ontario-vs-shelby/
END:VEVENT
BEGIN:VEVENT
DTSTART;TZID=America/New_York:20160821T090000
DTEND;TZID=America/New_York:20160821T150000
DTSTAMP:20260423T080054
CREATED:20160807T130822Z
LAST-MODIFIED:20160807T130822Z
UID:147-1471770000-1471791600@twin-lakes-golf.com
SUMMARY:Rising Stars
DESCRIPTION:Shotgun
URL:http://twin-lakes-golf.com/events/rising-stars/
END:VEVENT
BEGIN:VEVENT
DTSTART;TZID=America/New_York:20160820T100000
DTEND;TZID=America/New_York:20160820T150000
DTSTAMP:20260423T080054
CREATED:20160807T124844Z
LAST-MODIFIED:20160807T124844Z
UID:145-1471687200-1471705200@twin-lakes-golf.com
SUMMARY:Mick Karbula
DESCRIPTION:Reverse Gun
URL:http://twin-lakes-golf.com/events/mick-karbula/
END:VEVENT
BEGIN:VEVENT
DTSTART;TZID=America/New_York:20160820T080000
DTEND;TZID=America/New_York:20160820T100000
DTSTAMP:20260423T080054
CREATED:20160807T124606Z
LAST-MODIFIED:20160807T124701Z
UID:144-1471680000-1471687200@twin-lakes-golf.com
SUMMARY:Cook Rd Baptist
DESCRIPTION:Reverse Gun
URL:http://twin-lakes-golf.com/events/cook-rd-baptist/
END:VEVENT
BEGIN:VEVENT
DTSTART;TZID=America/New_York:20160819T080000
DTEND;TZID=America/New_York:20160819T080000
DTSTAMP:20260423T080054
CREATED:20160807T191412Z
LAST-MODIFIED:20160807T191843Z
UID:166-1471593600-1471593600@twin-lakes-golf.com
SUMMARY:Tyger Invitational
DESCRIPTION:
URL:http://twin-lakes-golf.com/events/tyger-invitational/
END:VEVENT
BEGIN:VEVENT
DTSTART;TZID=America/New_York:20160814T100000
DTEND;TZID=America/New_York:20160814T150000
DTSTAMP:20260423T080054
CREATED:20160807T155715Z
LAST-MODIFIED:20160807T155841Z
UID:158-1471168800-1471186800@twin-lakes-golf.com
SUMMARY:Brian D Evans
DESCRIPTION:
URL:http://twin-lakes-golf.com/events/brian-d-evans/
END:VEVENT
BEGIN:VEVENT
DTSTART;TZID=America/New_York:20160813T090000
DTEND;TZID=America/New_York:20160813T150000
DTSTAMP:20260423T080054
CREATED:20160813T130043Z
LAST-MODIFIED:20160807T140305Z
UID:143-1471078800-1471100400@twin-lakes-golf.com
SUMMARY:Red Fox
DESCRIPTION:Shotgun start
URL:http://twin-lakes-golf.com/events/red-fox/
END:VEVENT
BEGIN:VEVENT
DTSTART;TZID=America/New_York:20160813T090000
DTEND;TZID=America/New_York:20160813T150000
DTSTAMP:20260423T080054
CREATED:20160807T152120Z
LAST-MODIFIED:20160807T152120Z
UID:152-1471078800-1471100400@twin-lakes-golf.com
SUMMARY:Red Fox
DESCRIPTION:Shotgun
URL:http://twin-lakes-golf.com/events/red-fox-2/
END:VEVENT
BEGIN:VEVENT
DTSTART;TZID=America/New_York:20160810T161500
DTEND;TZID=America/New_York:20160810T190000
DTSTAMP:20260423T080054
CREATED:20160807T192045Z
LAST-MODIFIED:20160807T192157Z
UID:167-1470845700-1470855600@twin-lakes-golf.com
SUMMARY:Ontario vs Norwalk
DESCRIPTION:
URL:http://twin-lakes-golf.com/events/ontario-vs-norwalk/
END:VEVENT
BEGIN:VEVENT
DTSTART;TZID=America/New_York:20160807T100000
DTEND;TZID=America/New_York:20160807T150000
DTSTAMP:20260423T080054
CREATED:20160827T125604Z
LAST-MODIFIED:20160807T132444Z
UID:146-1470564000-1470582000@twin-lakes-golf.com
SUMMARY:Sophisticated Dance
DESCRIPTION:Shotgun Start
URL:http://twin-lakes-golf.com/events/sophisticated-dance/
END:VEVENT
BEGIN:VEVENT
DTSTART;TZID=America/New_York:20160802T080000
DTEND;TZID=America/New_York:20160802T170000
DTSTAMP:20260423T080054
CREATED:20160802T151849Z
LAST-MODIFIED:20160802T152015Z
UID:140-1470124800-1470157200@twin-lakes-golf.com
SUMMARY:
DESCRIPTION:August 3rd \n2:00 – Ontario Golf Team \n3:30 – MSH Girls
URL:http://twin-lakes-golf.com/events/140/
END:VEVENT
BEGIN:VEVENT
DTSTART;TZID=America/New_York:20160802T080000
DTEND;TZID=America/New_York:20160802T170000
DTSTAMP:20260423T080054
CREATED:20160802T130929Z
LAST-MODIFIED:20160802T131013Z
UID:139-1470124800-1470157200@twin-lakes-golf.com
SUMMARY:
DESCRIPTION:August 3rd – 2:00 Ontario Golf Team \n3:30 Senior High Girls
URL:http://twin-lakes-golf.com/events/139/
END:VEVENT
END:VCALENDAR